BEGIN:VCALENDAR
VERSION:2.0
PRODID:-//Friends of the Pool and Park Foundation - ECPv6.15.20//NONSGML v1.0//EN
CALSCALE:GREGORIAN
METHOD:PUBLISH
X-WR-CALNAME:Friends of the Pool and Park Foundation
X-ORIGINAL-URL:https://chinookfriends.org
X-WR-CALDESC:Events for Friends of the Pool and Park Foundation
REFRESH-INTERVAL;VALUE=DURATION:PT1H
X-Robots-Tag:noindex
X-PUBLISHED-TTL:PT1H
BEGIN:VTIMEZONE
TZID:America/Denver
BEGIN:DAYLIGHT
TZOFFSETFROM:-0700
TZOFFSETTO:-0600
TZNAME:MDT
DTSTART:20250309T090000
END:DAYLIGHT
BEGIN:STANDARD
TZOFFSETFROM:-0600
TZOFFSETTO:-0700
TZNAME:MST
DTSTART:20251102T080000
END:STANDARD
BEGIN:DAYLIGHT
TZOFFSETFROM:-0700
TZOFFSETTO:-0600
TZNAME:MDT
DTSTART:20260308T090000
END:DAYLIGHT
BEGIN:STANDARD
TZOFFSETFROM:-0600
TZOFFSETTO:-0700
TZNAME:MST
DTSTART:20261101T080000
END:STANDARD
BEGIN:DAYLIGHT
TZOFFSETFROM:-0700
TZOFFSETTO:-0600
TZNAME:MDT
DTSTART:20270314T090000
END:DAYLIGHT
BEGIN:STANDARD
TZOFFSETFROM:-0600
TZOFFSETTO:-0700
TZNAME:MST
DTSTART:20271107T080000
END:STANDARD
END:VTIMEZONE
BEGIN:VEVENT
DTSTART;TZID=America/Denver:20260309T190000
DTEND;TZID=America/Denver:20260309T203000
DTSTAMP:20260419T064346
CREATED:20250409T202647Z
LAST-MODIFIED:20260311T212243Z
UID:10001240-1773082800-1773088200@chinookfriends.org
SUMMARY:Chinook City Council - Regular Meeting
DESCRIPTION:Every 2nd Monday of the Month at 7 p.m.
URL:https://chinookfriends.org/community-calendar/chinook-city-council-regular-meeting-2/2026-03-09/
LOCATION:Chinook City Hall\, 300 Ohio Street N\, Chinook\, MT\, 59523\, United States
CATEGORIES:Meetings
ATTACH;FMTTYPE=image/webp:https://chinookfriends.org/wp-content/uploads/2023/06/siteLogo-01.webp
ORGANIZER;CN="City of Chinook":MAILTO:clerk@chinookmt.gov
END:VEVENT
BEGIN:VEVENT
DTSTART;TZID=America/Denver:20260310T190000
DTEND;TZID=America/Denver:20260310T210000
DTSTAMP:20260419T064346
CREATED:20250503T221841Z
LAST-MODIFIED:20250503T221841Z
UID:10001427-1773169200-1773176400@chinookfriends.org
SUMMARY:Chinook School Board Regular Meeting
DESCRIPTION:Every 2nd Tuesday at Chinook High School
URL:https://chinookfriends.org/community-calendar/chinook-school-board-regular-meeting-2/2026-03-10/
LOCATION:Chinook High School\, 528 Ohio Street N\, Chinook\, MT\, 59523\, United States
CATEGORIES:School Event
ATTACH;FMTTYPE=image/png:https://chinookfriends.org/wp-content/uploads/2023/06/BeeterVectorColor2.png
END:VEVENT
END:VCALENDAR